Package: QTLExperiment
Version: 1.3.0
Command: rm -rf QTLExperiment.buildbin-libdir && mkdir QTLExperiment.buildbin-libdir && F:\biocbuild\bbs-3.20-bioc\R\bin\R.exe CMD INSTALL --build --library=QTLExperiment.buildbin-libdir QTLExperiment_1.3.0.tar.gz
StartedAt: 2024-06-10 14:41:27 -0400 (Mon, 10 Jun 2024)
EndedAt: 2024-06-10 14:43:29 -0400 (Mon, 10 Jun 2024)
EllapsedTime: 121.5 seconds
RetCode: 0
Status: OK
PackageFile: QTLExperiment_1.3.0.zip
PackageFileSize: 1.144 <A href="http://en.wikipedia.org/wiki/MiB" target="_blank">MiB</A>