Package: QTLExperiment Version: 1.4.0 Command: rm -rf QTLExperiment.buildbin-libdir && mkdir QTLExperiment.buildbin-libdir && F:\biocbuild\bbs-3.20-bioc\R\bin\R.exe CMD INSTALL --build --library=QTLExperiment.buildbin-libdir QTLExperiment_1.4.0.tar.gz StartedAt: 2025-02-04 09:15:09 -0500 (Tue, 04 Feb 2025) EndedAt: 2025-02-04 09:17:06 -0500 (Tue, 04 Feb 2025) EllapsedTime: 116.4 seconds RetCode: 0 Status: OK PackageFile: QTLExperiment_1.4.0.zip PackageFileSize: 1.147 MiB