Package: QTLExperiment Version: 1.4.0 Command: F:\biocbuild\bbs-3.20-bioc\R\bin\R.exe CMD check --no-multiarch --install=check:QTLExperiment.install-out.txt --library=F:\biocbuild\bbs-3.20-bioc\R\library --no-vignettes --timings QTLExperiment_1.4.0.tar.gz StartedAt: 2025-02-04 05:11:38 -0500 (Tue, 04 Feb 2025) EndedAt: 2025-02-04 05:15:24 -0500 (Tue, 04 Feb 2025) EllapsedTime: 226.1 seconds RetCode: 0 Status: OK CheckDir: QTLExperiment.Rcheck Warnings: 0