Package: QTLExperiment Version: 1.4.0 Command: /home/biocbuild/R/R/bin/R CMD build --keep-empty-dirs --no-resave-data QTLExperiment StartedAt: 2025-02-04 02:01:30 -0000 (Tue, 04 Feb 2025) EndedAt: 2025-02-04 02:02:22 -0000 (Tue, 04 Feb 2025) EllapsedTime: 52.1 seconds RetCode: 0 Status: OK PackageFile: QTLExperiment_1.4.0.tar.gz PackageFileSize: 680.3 KiB