Package: QUBIC Version: 1.34.0 Command: rm -rf QUBIC.buildbin-libdir && mkdir QUBIC.buildbin-libdir && /Users/biocbuild/BBS/utils/build-universal.sh QUBIC_1.34.0.tar.gz /Library/Frameworks/R.framework/Resources/bin/R QUBIC.buildbin-libdir StartedAt: 2025-02-05 17:16:07 -0500 (Wed, 05 Feb 2025) EndedAt: 2025-02-05 17:16:38 -0500 (Wed, 05 Feb 2025) EllapsedTime: 31.8 seconds RetCode: 0 Status: OK PackageFile: QUBIC_1.34.0.tgz PackageFileSize: 617.9 KiB