Package: QUBIC Version: 1.34.0 Command: /Library/Frameworks/R.framework/Resources/bin/R CMD INSTALL QUBIC StartedAt: 2025-02-03 16:33:24 -0500 (Mon, 03 Feb 2025) EndedAt: 2025-02-03 16:34:24 -0500 (Mon, 03 Feb 2025) EllapsedTime: 60.0 seconds RetCode: 0 Status: OK