Package: QUBIC Version: 1.34.0 Command: /home/biocbuild/bbs-3.20-bioc/R/bin/R CMD INSTALL QUBIC StartedAt: 2025-02-03 15:59:29 -0500 (Mon, 03 Feb 2025) EndedAt: 2025-02-03 16:00:01 -0500 (Mon, 03 Feb 2025) EllapsedTime: 32.0 seconds RetCode: 0 Status: OK