Package: QUBIC Version: 1.34.0 Command: rm -rf QUBIC.buildbin-libdir && mkdir QUBIC.buildbin-libdir && F:\biocbuild\bbs-3.20-bioc\R\bin\R.exe CMD INSTALL --build --library=QUBIC.buildbin-libdir QUBIC_1.34.0.tar.gz StartedAt: 2025-02-04 09:15:35 -0500 (Tue, 04 Feb 2025) EndedAt: 2025-02-04 09:16:28 -0500 (Tue, 04 Feb 2025) EllapsedTime: 53.1 seconds RetCode: 0 Status: OK PackageFile: QUBIC_1.34.0.zip PackageFileSize: 1.007 MiB