Package: QUBIC Version: 1.34.0 Command: F:\biocbuild\bbs-3.20-bioc\R\bin\R.exe CMD check --no-multiarch --install=check:QUBIC.install-out.txt --library=F:\biocbuild\bbs-3.20-bioc\R\library --no-vignettes --timings QUBIC_1.34.0.tar.gz StartedAt: 2025-02-04 05:13:53 -0500 (Tue, 04 Feb 2025) EndedAt: 2025-02-04 05:15:07 -0500 (Tue, 04 Feb 2025) EllapsedTime: 74.4 seconds RetCode: 0 Status: OK CheckDir: QUBIC.Rcheck Warnings: 0