Package: QUBIC Version: 1.34.0 Command: /home/biocbuild/R/R/bin/R CMD check --install=check:QUBIC.install-out.txt --library=/home/biocbuild/R/R/site-library --no-vignettes --timings QUBIC_1.34.0.tar.gz StartedAt: 2025-02-04 10:10:06 -0000 (Tue, 04 Feb 2025) EndedAt: 2025-02-04 10:10:51 -0000 (Tue, 04 Feb 2025) EllapsedTime: 45.0 seconds RetCode: 0 Status: OK CheckDir: QUBIC.Rcheck Warnings: 0