Package: QUBIC
Version: 1.34.0
Command: /home/biocbuild/R/R/bin/R CMD INSTALL QUBIC
StartedAt: 2025-02-17 21:08:57 -0000 (Mon, 17 Feb 2025)
EndedAt: 2025-02-17 21:09:38 -0000 (Mon, 17 Feb 2025)
EllapsedTime: 40.9 seconds
RetCode: 0
Status: OK