Package: QuasR Version: 1.46.0 Command: rm -rf QuasR.buildbin-libdir && mkdir QuasR.buildbin-libdir && /Users/biocbuild/BBS/utils/build-universal.sh QuasR_1.46.0.tar.gz /Library/Frameworks/R.framework/Resources/bin/R QuasR.buildbin-libdir StartedAt: 2025-02-05 17:15:59 -0500 (Wed, 05 Feb 2025) EndedAt: 2025-02-05 17:17:24 -0500 (Wed, 05 Feb 2025) EllapsedTime: 84.7 seconds RetCode: 0 Status: OK PackageFile: QuasR_1.46.0.tgz PackageFileSize: 3.346 MiB