Package: QuasR Version: 1.46.0 Command: /home/biocbuild/bbs-3.20-bioc/R/bin/R CMD INSTALL QuasR StartedAt: 2025-02-03 15:39:08 -0500 (Mon, 03 Feb 2025) EndedAt: 2025-02-03 15:40:13 -0500 (Mon, 03 Feb 2025) EllapsedTime: 65.0 seconds RetCode: 0 Status: OK