Package: QuasR
Version: 1.45.1
Command: F:\biocbuild\bbs-3.20-bioc\R\bin\R.exe CMD INSTALL QuasR
StartedAt: 2024-06-09 16:16:52 -0400 (Sun, 09 Jun 2024)
EndedAt: 2024-06-09 16:18:59 -0400 (Sun, 09 Jun 2024)
EllapsedTime: 126.1 seconds
RetCode: 0
Status: OK