Package: QuasR Version: 1.46.0 Command: rm -rf QuasR.buildbin-libdir && mkdir QuasR.buildbin-libdir && F:\biocbuild\bbs-3.20-bioc\R\bin\R.exe CMD INSTALL --build --library=QuasR.buildbin-libdir QuasR_1.46.0.tar.gz StartedAt: 2025-02-04 09:15:24 -0500 (Tue, 04 Feb 2025) EndedAt: 2025-02-04 09:17:13 -0500 (Tue, 04 Feb 2025) EllapsedTime: 108.4 seconds RetCode: 0 Status: OK PackageFile: QuasR_1.46.0.zip PackageFileSize: 7.146 MiB