Package: QuaternaryProd Version: 1.40.0 Command: rm -rf QuaternaryProd.buildbin-libdir && mkdir QuaternaryProd.buildbin-libdir && /Users/biocbuild/BBS/utils/build-universal.sh QuaternaryProd_1.40.0.tar.gz /Library/Frameworks/R.framework/Resources/bin/R QuaternaryProd.buildbin-libdir StartedAt: 2025-02-05 17:16:02 -0500 (Wed, 05 Feb 2025) EndedAt: 2025-02-05 17:16:23 -0500 (Wed, 05 Feb 2025) EllapsedTime: 21.3 seconds RetCode: 0 Status: OK PackageFile: QuaternaryProd_1.40.0.tgz PackageFileSize: 10.9 MiB