Package: QuaternaryProd Version: 1.40.0 Command: /Library/Frameworks/R.framework/Resources/bin/R CMD INSTALL QuaternaryProd StartedAt: 2025-02-17 15:13:55 -0500 (Mon, 17 Feb 2025) EndedAt: 2025-02-17 15:14:12 -0500 (Mon, 17 Feb 2025) EllapsedTime: 16.8 seconds RetCode: 0 Status: OK