Package: QuaternaryProd Version: 1.40.0 Command: F:\biocbuild\bbs-3.20-bioc\R\bin\R.exe CMD INSTALL QuaternaryProd StartedAt: 2025-02-03 15:35:44 -0500 (Mon, 03 Feb 2025) EndedAt: 2025-02-03 15:36:20 -0500 (Mon, 03 Feb 2025) EllapsedTime: 35.4 seconds RetCode: 0 Status: OK