Package: R453Plus1Toolbox Version: 1.56.0 Command: /home/biocbuild/bbs-3.20-bioc/R/bin/R CMD INSTALL R453Plus1Toolbox StartedAt: 2025-02-03 15:43:06 -0500 (Mon, 03 Feb 2025) EndedAt: 2025-02-03 15:44:21 -0500 (Mon, 03 Feb 2025) EllapsedTime: 75.1 seconds RetCode: 0 Status: OK