Package: R453Plus1Toolbox
Version: 1.55.0
Command: rm -rf R453Plus1Toolbox.buildbin-libdir && mkdir R453Plus1Toolbox.buildbin-libdir && C:\Users\biocbuild\bbs-3.20-bioc\R\bin\R.exe CMD INSTALL --build --library=R453Plus1Toolbox.buildbin-libdir R453Plus1Toolbox_1.55.0.tar.gz
StartedAt: 2024-07-16 06:36:50 -0400 (Tue, 16 Jul 2024)
EndedAt: 2024-07-16 06:38:31 -0400 (Tue, 16 Jul 2024)
EllapsedTime: 100.7 seconds
RetCode: 0
Status: OK
PackageFile: R453Plus1Toolbox_1.55.0.zip
PackageFileSize: 2.252 <A href="http://en.wikipedia.org/wiki/MiB" target="_blank">MiB</A>