Package: R453Plus1Toolbox Version: 1.56.0 Command: chmod a+r R453Plus1Toolbox -R && F:\biocbuild\bbs-3.20-bioc\R\bin\R.exe CMD build --keep-empty-dirs --no-resave-data R453Plus1Toolbox StartedAt: 2025-02-03 21:28:14 -0500 (Mon, 03 Feb 2025) EndedAt: 2025-02-03 21:31:48 -0500 (Mon, 03 Feb 2025) EllapsedTime: 214.0 seconds RetCode: 0 Status: OK PackageFile: R453Plus1Toolbox_1.56.0.tar.gz PackageFileSize: 838.3 KiB