Package: R453Plus1Toolbox Version: 1.56.0 Command: F:\biocbuild\bbs-3.20-bioc\R\bin\R.exe CMD check --no-multiarch --install=check:R453Plus1Toolbox.install-out.txt --library=F:\biocbuild\bbs-3.20-bioc\R\library --no-vignettes --timings R453Plus1Toolbox_1.56.0.tar.gz StartedAt: 2025-02-04 05:15:19 -0500 (Tue, 04 Feb 2025) EndedAt: 2025-02-04 05:23:02 -0500 (Tue, 04 Feb 2025) EllapsedTime: 463.5 seconds RetCode: 0 Status: OK CheckDir: R453Plus1Toolbox.Rcheck Warnings: 0