Package: R453Plus1Toolbox Version: 1.56.0 Command: F:\biocbuild\bbs-3.20-bioc\R\bin\R.exe CMD INSTALL R453Plus1Toolbox StartedAt: 2025-02-03 17:08:22 -0500 (Mon, 03 Feb 2025) EndedAt: 2025-02-03 17:13:39 -0500 (Mon, 03 Feb 2025) EllapsedTime: 316.9 seconds RetCode: 0 Status: OK