Package: R4RNA Version: 1.34.0 Command: /Library/Frameworks/R.framework/Resources/bin/R CMD build --keep-empty-dirs --no-resave-data R4RNA StartedAt: 2025-02-04 06:07:36 -0500 (Tue, 04 Feb 2025) EndedAt: 2025-02-04 06:08:03 -0500 (Tue, 04 Feb 2025) EllapsedTime: 26.3 seconds RetCode: 0 Status: OK PackageFile: R4RNA_1.34.0.tar.gz PackageFileSize: 903 KiB