Package: R4RNA Version: 1.34.0 Command: rm -rf R4RNA.buildbin-libdir && mkdir R4RNA.buildbin-libdir && /Users/biocbuild/BBS/utils/build-universal.sh R4RNA_1.34.0.tar.gz /Library/Frameworks/R.framework/Resources/bin/R R4RNA.buildbin-libdir StartedAt: 2025-02-04 13:53:51 -0500 (Tue, 04 Feb 2025) EndedAt: 2025-02-04 13:54:29 -0500 (Tue, 04 Feb 2025) EllapsedTime: 37.3 seconds RetCode: 0 Status: OK PackageFile: R4RNA_1.34.0.tgz PackageFileSize: 1.019 MiB