Package: R4RNA Version: 1.34.0 Command: /Library/Frameworks/R.framework/Resources/bin/R CMD build --keep-empty-dirs --no-resave-data R4RNA StartedAt: 2025-02-03 21:31:04 -0500 (Mon, 03 Feb 2025) EndedAt: 2025-02-03 21:31:47 -0500 (Mon, 03 Feb 2025) EllapsedTime: 42.9 seconds RetCode: 0 Status: OK PackageFile: R4RNA_1.34.0.tar.gz PackageFileSize: 903.5 KiB