Package: R4RNA Version: 1.34.0 Command: /Library/Frameworks/R.framework/Resources/bin/R CMD INSTALL R4RNA StartedAt: 2025-02-03 15:29:02 -0500 (Mon, 03 Feb 2025) EndedAt: 2025-02-03 15:29:24 -0500 (Mon, 03 Feb 2025) EllapsedTime: 22.6 seconds RetCode: 0 Status: OK