Package: RAIDS Version: 1.4.0 Command: rm -rf RAIDS.buildbin-libdir && mkdir RAIDS.buildbin-libdir && /Users/biocbuild/BBS/utils/build-universal.sh RAIDS_1.4.0.tar.gz /Library/Frameworks/R.framework/Resources/bin/R RAIDS.buildbin-libdir StartedAt: 2024-11-20 04:44:48 -0500 (Wed, 20 Nov 2024) EndedAt: 2024-11-20 04:46:10 -0500 (Wed, 20 Nov 2024) EllapsedTime: 81.9 seconds RetCode: 0 Status: OK PackageFile: RAIDS_1.4.0.tgz PackageFileSize: 2.705 MiB