Package: RAIDS Version: 1.4.0 Command: /Library/Frameworks/R.framework/Resources/bin/R CMD build --keep-empty-dirs --no-resave-data RAIDS StartedAt: 2025-02-03 21:31:26 -0500 (Mon, 03 Feb 2025) EndedAt: 2025-02-03 21:36:13 -0500 (Mon, 03 Feb 2025) EllapsedTime: 286.4 seconds RetCode: 0 Status: OK PackageFile: RAIDS_1.4.0.tar.gz PackageFileSize: 3.4 MiB