Package: RAIDS Version: 1.4.0 Command: /home/biocbuild/bbs-3.20-bioc/R/bin/R CMD INSTALL RAIDS StartedAt: 2025-02-03 15:58:24 -0500 (Mon, 03 Feb 2025) EndedAt: 2025-02-03 15:59:24 -0500 (Mon, 03 Feb 2025) EllapsedTime: 59.9 seconds RetCode: 0 Status: OK