Package: RAREsim Version: 1.10.0 Command: /Library/Frameworks/R.framework/Resources/bin/R CMD build --keep-empty-dirs --no-resave-data RAREsim StartedAt: 2025-01-31 06:04:01 -0500 (Fri, 31 Jan 2025) EndedAt: 2025-01-31 06:04:10 -0500 (Fri, 31 Jan 2025) EllapsedTime: 9.2 seconds RetCode: 0 Status: OK PackageFile: RAREsim_1.10.0.tar.gz PackageFileSize: 299.8 KiB