Package: RAREsim Version: 1.10.0 Command: /Library/Frameworks/R.framework/Resources/bin/R CMD check --install=check:RAREsim.install-out.txt --library=/Library/Frameworks/R.framework/Resources/library --no-vignettes --timings RAREsim_1.10.0.tar.gz StartedAt: 2025-02-01 05:56:42 -0500 (Sat, 01 Feb 2025) EndedAt: 2025-02-01 05:57:04 -0500 (Sat, 01 Feb 2025) EllapsedTime: 22.3 seconds RetCode: 0 Status: OK CheckDir: RAREsim.Rcheck Warnings: 0