Package: RAREsim Version: 1.10.0 Command: /Library/Frameworks/R.framework/Resources/bin/R CMD INSTALL RAREsim StartedAt: 2025-01-30 15:03:14 -0500 (Thu, 30 Jan 2025) EndedAt: 2025-01-30 15:03:16 -0500 (Thu, 30 Jan 2025) EllapsedTime: 2.6 seconds RetCode: 0 Status: OK