Package: RAREsim Version: 1.10.0 Command: /Library/Frameworks/R.framework/Resources/bin/R CMD check --install=check:RAREsim.install-out.txt --library=/Library/Frameworks/R.framework/Resources/library --no-vignettes --timings RAREsim_1.10.0.tar.gz StartedAt: 2025-01-31 08:36:47 -0500 (Fri, 31 Jan 2025) EndedAt: 2025-01-31 08:37:26 -0500 (Fri, 31 Jan 2025) EllapsedTime: 39.5 seconds RetCode: 0 Status: OK CheckDir: RAREsim.Rcheck Warnings: 0