Package: RAREsim Version: 1.10.0 Command: /Library/Frameworks/R.framework/Resources/bin/R CMD INSTALL RAREsim StartedAt: 2025-02-03 15:12:16 -0500 (Mon, 03 Feb 2025) EndedAt: 2025-02-03 15:12:25 -0500 (Mon, 03 Feb 2025) EllapsedTime: 8.5 seconds RetCode: 0 Status: OK