Package: RAREsim Version: 1.10.0 Command: chmod a+r RAREsim -R && F:\biocbuild\bbs-3.20-bioc\R\bin\R.exe CMD build --keep-empty-dirs --no-resave-data RAREsim StartedAt: 2025-01-30 21:14:11 -0500 (Thu, 30 Jan 2025) EndedAt: 2025-01-30 21:14:23 -0500 (Thu, 30 Jan 2025) EllapsedTime: 12.0 seconds RetCode: 0 Status: OK PackageFile: RAREsim_1.10.0.tar.gz PackageFileSize: 257.2 KiB