Package: RAREsim Version: 1.10.0 Command: /home/biocbuild/R/R/bin/R CMD INSTALL RAREsim StartedAt: 2025-01-30 20:05:48 -0000 (Thu, 30 Jan 2025) EndedAt: 2025-01-30 20:05:56 -0000 (Thu, 30 Jan 2025) EllapsedTime: 7.8 seconds RetCode: 0 Status: OK