Package: RBGL
Version: 1.82.0
Command: /home/biocbuild/R/R/bin/R CMD INSTALL RBGL
StartedAt: 2024-11-19 20:29:49 -0000 (Tue, 19 Nov 2024)
EndedAt: 2024-11-19 20:32:35 -0000 (Tue, 19 Nov 2024)
EllapsedTime: 165.2 seconds
RetCode: 0
Status: OK