Package: RBGL Version: 1.82.0 Command: rm -rf RBGL.buildbin-libdir && mkdir RBGL.buildbin-libdir && /Users/biocbuild/BBS/utils/build-universal.sh RBGL_1.82.0.tar.gz /Library/Frameworks/R.framework/Resources/bin/R RBGL.buildbin-libdir StartedAt: 2025-02-04 13:54:55 -0500 (Tue, 04 Feb 2025) EndedAt: 2025-02-04 13:59:36 -0500 (Tue, 04 Feb 2025) EllapsedTime: 280.7 seconds RetCode: 1 Status: ERROR PackageFile: None PackageFileSize: NA