Package: RBM Version: 1.38.0 Maintainer: Dongmei Li MaintainerEmail: Dongmei_Li at urmc.rochester.edu git_url: https://git.bioconductor.org/packages/RBM git_branch: RELEASE_3_20 git_last_commit: 7a2f69f git_last_commit_date: 2024-10-29 09:59:51 -0500 (Tue, 29 Oct 2024)