Package: RBM Version: 1.38.0 Command: /Library/Frameworks/R.framework/Resources/bin/R CMD build --keep-empty-dirs --no-resave-data RBM StartedAt: 2025-02-04 06:17:09 -0500 (Tue, 04 Feb 2025) EndedAt: 2025-02-04 06:17:50 -0500 (Tue, 04 Feb 2025) EllapsedTime: 40.9 seconds RetCode: 0 Status: OK PackageFile: RBM_1.38.0.tar.gz PackageFileSize: 372.5 KiB