Package: RBM Version: 1.38.0 Command: /Library/Frameworks/R.framework/Resources/bin/R CMD build --keep-empty-dirs --no-resave-data RBM StartedAt: 2025-02-03 21:33:44 -0500 (Mon, 03 Feb 2025) EndedAt: 2025-02-03 21:35:14 -0500 (Mon, 03 Feb 2025) EllapsedTime: 89.3 seconds RetCode: 0 Status: OK PackageFile: RBM_1.38.0.tar.gz PackageFileSize: 371.3 KiB