Package: RBM Version: 1.38.0 Command: /home/biocbuild/bbs-3.20-bioc/R/bin/R CMD build --keep-empty-dirs --no-resave-data --md5 RBM StartedAt: 2025-02-03 18:53:48 -0500 (Mon, 03 Feb 2025) EndedAt: 2025-02-03 18:54:18 -0500 (Mon, 03 Feb 2025) EllapsedTime: 30.0 seconds RetCode: 0 Status: OK PackageFile: RBM_1.38.0.tar.gz PackageFileSize: 373.2 KiB