Package: RBM Version: 1.38.0 Command: /home/biocbuild/bbs-3.20-bioc/R/bin/R CMD check --install=check:RBM.install-out.txt --library=/home/biocbuild/bbs-3.20-bioc/R/site-library --timings RBM_1.38.0.tar.gz StartedAt: 2025-02-04 01:36:24 -0500 (Tue, 04 Feb 2025) EndedAt: 2025-02-04 01:37:26 -0500 (Tue, 04 Feb 2025) EllapsedTime: 62.2 seconds RetCode: 0 Status: OK CheckDir: RBM.Rcheck Warnings: 0