Package: RBioinf Version: 1.66.0 Command: /Library/Frameworks/R.framework/Resources/bin/R CMD INSTALL RBioinf StartedAt: 2025-02-03 15:14:40 -0500 (Mon, 03 Feb 2025) EndedAt: 2025-02-03 15:14:44 -0500 (Mon, 03 Feb 2025) EllapsedTime: 4.6 seconds RetCode: 0 Status: OK