Package: RBioinf
Version: 1.66.0
Command: /home/biocbuild/R/R/bin/R CMD check --install=check:RBioinf.install-out.txt --library=/home/biocbuild/R/R/site-library --no-vignettes --timings RBioinf_1.66.0.tar.gz
StartedAt: 2024-11-20 11:26:18 -0000 (Wed, 20 Nov 2024)
EndedAt: 2024-11-20 11:26:45 -0000 (Wed, 20 Nov 2024)
EllapsedTime: 27.0 seconds
RetCode: 0
Status: OK
CheckDir: RBioinf.Rcheck
Warnings: 0