Package: RBioinf
Version: 1.65.0
Command: rm -rf RBioinf.buildbin-libdir && mkdir RBioinf.buildbin-libdir && C:\Users\biocbuild\bbs-3.20-bioc\R\bin\R.exe CMD INSTALL --build --library=RBioinf.buildbin-libdir RBioinf_1.65.0.tar.gz
StartedAt: 2024-07-16 06:37:21 -0400 (Tue, 16 Jul 2024)
EndedAt: 2024-07-16 06:37:35 -0400 (Tue, 16 Jul 2024)
EllapsedTime: 14.1 seconds
RetCode: 0
Status: OK
PackageFile: RBioinf_1.65.0.zip
PackageFileSize: 3.469 <A href="http://en.wikipedia.org/wiki/MiB" target="_blank">MiB</A>