Package: RBioinf Version: 1.66.0 Command: rm -rf RBioinf.buildbin-libdir && mkdir RBioinf.buildbin-libdir && F:\biocbuild\bbs-3.20-bioc\R\bin\R.exe CMD INSTALL --build --library=RBioinf.buildbin-libdir RBioinf_1.66.0.tar.gz StartedAt: 2025-02-04 09:16:51 -0500 (Tue, 04 Feb 2025) EndedAt: 2025-02-04 09:17:08 -0500 (Tue, 04 Feb 2025) EllapsedTime: 16.6 seconds RetCode: 0 Status: OK PackageFile: RBioinf_1.66.0.zip PackageFileSize: 3.47 MiB