Package: RBioinf Version: 1.66.0 Command: chmod a+r RBioinf -R && F:\biocbuild\bbs-3.20-bioc\R\bin\R.exe CMD build --keep-empty-dirs --no-resave-data RBioinf StartedAt: 2025-02-03 21:32:00 -0500 (Mon, 03 Feb 2025) EndedAt: 2025-02-03 21:32:19 -0500 (Mon, 03 Feb 2025) EllapsedTime: 19.3 seconds RetCode: 0 Status: OK PackageFile: RBioinf_1.66.0.tar.gz PackageFileSize: 3.436 MiB