Package: RCAS Version: 1.32.0 Command: /Library/Frameworks/R.framework/Resources/bin/R CMD INSTALL RCAS StartedAt: 2025-01-30 16:52:03 -0500 (Thu, 30 Jan 2025) EndedAt: 2025-01-30 16:52:59 -0500 (Thu, 30 Jan 2025) EllapsedTime: 56.4 seconds RetCode: 0 Status: OK